BEGIN:VCALENDAR
VERSION:2.0
PRODID:-//wp-events-plugin.com//7.2.3.1//EN
BEGIN:VEVENT
UID:141@praxis-berndorfer.at
DTSTART;TZID=Europe/Vienna;VALUE=DATE:20261003
DTEND;TZID=Europe/Vienna;VALUE=DATE:20261005
DTSTAMP:20260118T204042Z
URL:https://praxis-berndorfer.at/events/vertrauen-lernen-2/
SUMMARY:Du willst vertrauen – aber dein Körper zieht die Bremse.
DESCRIPTION:Du willst vertrauen – aber dein Körper zieht die Bremse.\nVi
 elleicht möchtest du glauben.An dich. An andere. An das Leben.\nUnd trotz
 dem ist da diese Vorsicht.Dieses innere Zurückhalten.\nIn diesem Workshop
  geht es darum\, Vertrauen nicht zu erzwingen\, sondern langsam wieder auf
 zubauen – dort\, wo es verloren gegangen ist.\n\nWas dich erwartet:\n- W
 arum Vertrauen nach Enttäuschungen schwerfällt\n- Wie Misstrauen entsteh
 t – und wofür es dich schützen wollte\n- Wie du wieder mehr Sicherheit
  in dir findest\n- Wie Vertrauen wachsen kann\, ohne dich zu überfordern\
 n- Verständnis für deine Ängste statt Kampf gegen sie\n\nFür dich\, we
 nn:\n- du oft auf Abstand bleibst\n- du dich schwer fallen lassen kannst\n
 - du dich nach mehr Leichtigkeit sehnst\n\nDu gehst mit:\n- mehr Vertrauen
  in dich\n- mehr innere Sicherheit\n- mehr Offenheit für Verbindung\n—
 ——————————————————-\nINFOS / ZEITPUNKT
 :\n\nSamstag 09:00 - 15:00\nSonntag  09:00 - 14:00\n\nBitte pünktlich da
 bei sein (ggf. kurze SMS schreiben bei Verspätung)\nDer Beitrag kann per 
 Rechnung bezahlt werden!\nEine Absage oder Nichterscheinen wird voll in Re
 chnung gestellt\, da der Platz ganz dir gehört und begrenzt ist!\n\nAlle 
 Rahmenbedingungen für den Workshop findest du hier: https://praxis-bernd
 orfer.at/rahmenbedingungen-workshop/\n\n———————————
 ————————-\n\nMelde dich an und erlebe\, wieder Vertrauen i
 n dich.\n\n\nIch freue mich darauf\, dich in diesem Workshop zu unterstüt
 zen!\n\nTamara Berndorfer\n\nDisclaimer:Meine Workshops finden ausschließ
 lich als Angebot der Lebens- und Sozialberatung statt und dienen zur psych
 osozialen Unterstützung im Alltag. Sie bieten Impulse und praktische Ans
 ätze für mehr Lebensqualität\, Selbstreflexion und persönliche Weitere
 ntwicklung. Sie ersetzen keine psychotherapeutische oder ärztliche Behand
 lung – sondern sind eine Möglichkeit sich selbst eigenverantwortlich un
 d wirkungsvoll zu erleben!\n\n&nbsp\;
ATTACH;FMTTYPE=image/jpeg:https://praxis-berndorfer.at/wp-content/uploads/
 2026/01/Vertrauen.png
CATEGORIES:Workshop / Seminar
LOCATION:Tamara Berndorfer - Lebens- und Sozialberaterin\, Bahnhofstrasse 8
  (1. Stock)\, Traun\, 4050\, Österreich
X-APPLE-STRUCTURED-LOCATION;VALUE=URI;X-ADDRESS=Bahnhofstrasse 8 (1. Stock)
 \, Traun\, 4050\, Österreich;X-APPLE-RADIUS=100;X-TITLE=Tamara Berndorfer
  - Lebens- und Sozialberaterin:geo:0,0
END:VEVENT
BEGIN:VTIMEZONE
TZID:Europe/Vienna
X-LIC-LOCATION:Europe/Vienna
BEGIN:DAYLIGHT
DTSTART:20260329T030000
TZOFFSETFROM:+0100
TZOFFSETTO:+0200
TZNAME:CEST
END:DAYLIGHT
END:VTIMEZONE
END:VCALENDAR