BEGIN:VCALENDAR
VERSION:2.0
PRODID:-//wp-events-plugin.com//7.2.3.1//EN
BEGIN:VEVENT
UID:137@praxis-berndorfer.at
DTSTART;TZID=Europe/Vienna;VALUE=DATE:20260523
DTEND;TZID=Europe/Vienna;VALUE=DATE:20260526
DTSTAMP:20260118T193931Z
URL:https://praxis-berndorfer.at/events/trigger-turn-on/
SUMMARY:Trigger & Turn-On  Wenn die Vergangenheit reinpfuscht
DESCRIPTION:Manchmal reicht ein Tonfall.\nEin Blick. Eine Situation.\nUnd d
 u bist emotional „drüber“.\n\nIn diesem Workshop lernst du\, warum de
 in Körper schneller reagiert als dein Kopf – und wie du damit umgehen k
 annst.\nund wieso kleine Dinge große Reaktionen auslösen.\nWas dich erwa
 rtet:\n\n 	\nWarum alte Erfahrungen heute noch wirken\n\n 	\nWie Trigger e
 ntstehen\n\n 	\nWarum du manchmal „überreagierst“\n\n 	\nWie du dich 
 schneller wieder beruhigen kannst\n\n 	\nMehr Kontrolle ohne Kontrolle\n\n
 \n&nbsp\;\nFür wen?\n\n 	\ndich manche Situationen überfordern\n\n 	\ndu
  dich selbst nicht verstehst\n\n 	\ndu ruhiger reagieren willst\n\n\n&nbsp
 \;\n\n———————————————————-\nINFOS / 
 ZEITPUNKT:\n\nSamstag 09:00 - 15:00\nSonntag  09:00 - 15:00\nMontag   0
 9:00 - 14:00\n\nBitte pünktlich dabei sein (ggf. kurze SMS schreiben bei 
 Verspätung)\nDer Beitrag kann per Rechnung bezahlt werden!\nEine Absage o
 der Nichterscheinen wird voll in Rechnung gestellt\, da der Platz ganz dir
  gehört und begrenzt ist!\n\nAlle Rahmenbedingungen für den Workshop fin
 dest du hier: https://praxis-berndorfer.at/rahmenbedingungen-workshop/\n\
 n———————————————————-\n\nMelde dich 
 an und erlebe\, dich krisensicherer.\n\nIch freue mich darauf\, dich in di
 esem Workshop zu unterstützen!\n\nTamara Berndorfer\n\nDisclaimer:Meine W
 orkshops finden ausschließlich als Angebot der Lebens- und Sozialberatung
  statt und dienen zur psychosozialen Unterstützung im Alltag. Sie bieten 
 Impulse und praktische Ansätze für mehr Lebensqualität\, Selbstreflexio
 n und persönliche Weiterentwicklung. Sie ersetzen keine psychotherapeutis
 che oder ärztliche Behandlung – sondern sind eine Möglichkeit sich sel
 bst eigenverantwortlich und wirkungsvoll zu erleben!\n\n&nbsp\;
ATTACH;FMTTYPE=image/jpeg:https://praxis-berndorfer.at/wp-content/uploads/
 2026/01/trigger-2.png
CATEGORIES:Workshop / Seminar
LOCATION:Tamara Berndorfer - Lebens- und Sozialberaterin\, Bahnhofstrasse 8
  (1. Stock)\, Traun\, 4050\, Österreich
X-APPLE-STRUCTURED-LOCATION;VALUE=URI;X-ADDRESS=Bahnhofstrasse 8 (1. Stock)
 \, Traun\, 4050\, Österreich;X-APPLE-RADIUS=100;X-TITLE=Tamara Berndorfer
  - Lebens- und Sozialberaterin:geo:0,0
END:VEVENT
BEGIN:VTIMEZONE
TZID:Europe/Vienna
X-LIC-LOCATION:Europe/Vienna
BEGIN:DAYLIGHT
DTSTART:20260329T030000
TZOFFSETFROM:+0100
TZOFFSETTO:+0200
TZNAME:CEST
END:DAYLIGHT
END:VTIMEZONE
END:VCALENDAR