BEGIN:VCALENDAR
VERSION:2.0
PRODID:-//wp-events-plugin.com//7.2.3.1//EN
BEGIN:VEVENT
UID:138@praxis-berndorfer.at
DTSTART;TZID=Europe/Vienna;VALUE=DATE:20260725
DTEND;TZID=Europe/Vienna;VALUE=DATE:20260727
DTSTAMP:20260118T195642Z
URL:https://praxis-berndorfer.at/events/selbstwertprobleme-sommer/
SUMMARY:Selbstwertprobleme ? Sommer \, Zweifel und Vergleiche
DESCRIPTION:Der Sommer verstärkt Vergleiche\, Körperstress und alte Unsic
 herheiten.\n\nDieser Workshop holt Selbstwert raus aus dem Kopf – und re
 in in die Selbstbeziehung.\nWas dich erwartet:\n- Selbstwert vs. Selbstopt
 imierung\n- Umgang mit Blicken\, Bewertungen &amp\; innerem Druck\n- Körp
 erwahrnehmung statt Körperkontrolle\n- Stabilität unabhängig vom Außen
 \n- Alltagsnahe Übungen für Selbstannahme\n\nFür wen?\n- Für Menschen 
 mit Körperthemen\n- Für alle\, die sich ständig vergleichen\n- Für dic
 h\, wenn du dich selbst wieder spüren willst\nDu wirst lernen:\n- Dich ni
 cht mehr gegen dich zu wenden\n- Sicherheit in dir zu finden\n- Dich selbs
 t zu halten\n&nbsp\;\n\n————————————————
 ———-\nINFOS / ZEITPUNKT:\n\nSamstag 09:00 - 15:00\nSonntag  09:00 -
  14:00\n\nBitte pünktlich dabei sein (ggf. kurze SMS schreiben bei Versp
 ätung)\nDer Beitrag kann per Rechnung bezahlt werden!\nEine Absage oder N
 ichterscheinen wird voll in Rechnung gestellt\, da der Platz ganz dir geh
 ört und begrenzt ist!\n\nAlle Rahmenbedingungen für den Workshop findest
  du hier: https://praxis-berndorfer.at/rahmenbedingungen-workshop/\n\n—
 ——————————————————-\n\nMelde dich an u
 nd erlebe\, dich im positiven Umgang mit deinem Körper.\nDieser Workshop 
 hilft dir\, dich nicht mehr gegen dich zu wenden.\n\n\nIch freue mich dara
 uf\, dich in diesem Workshop zu unterstützen!\n\nTamara Berndorfer\n\nDis
 claimer:Meine Workshops finden ausschließlich als Angebot der Lebens- und
  Sozialberatung statt und dienen zur psychosozialen Unterstützung im Allt
 ag. Sie bieten Impulse und praktische Ansätze für mehr Lebensqualität\,
  Selbstreflexion und persönliche Weiterentwicklung. Sie ersetzen keine ps
 ychotherapeutische oder ärztliche Behandlung – sondern sind eine Mögli
 chkeit sich selbst eigenverantwortlich und wirkungsvoll zu erleben!\n\n&nb
 sp\;
ATTACH;FMTTYPE=image/jpeg:https://praxis-berndorfer.at/wp-content/uploads/
 2026/01/Selbstwert.png
CATEGORIES:Workshop / Seminar
LOCATION:Tamara Berndorfer - Lebens- und Sozialberaterin\, Bahnhofstrasse 8
  (1. Stock)\, Traun\, 4050\, Österreich
X-APPLE-STRUCTURED-LOCATION;VALUE=URI;X-ADDRESS=Bahnhofstrasse 8 (1. Stock)
 \, Traun\, 4050\, Österreich;X-APPLE-RADIUS=100;X-TITLE=Tamara Berndorfer
  - Lebens- und Sozialberaterin:geo:0,0
END:VEVENT
BEGIN:VTIMEZONE
TZID:Europe/Vienna
X-LIC-LOCATION:Europe/Vienna
BEGIN:DAYLIGHT
DTSTART:20260329T030000
TZOFFSETFROM:+0100
TZOFFSETTO:+0200
TZNAME:CEST
END:DAYLIGHT
END:VTIMEZONE
END:VCALENDAR