BEGIN:VCALENDAR
VERSION:2.0
PRODID:-//wp-events-plugin.com//7.2.3.1//EN
BEGIN:VEVENT
UID:139@praxis-berndorfer.at
DTSTART;TZID=Europe/Vienna;VALUE=DATE:20260801
DTEND;TZID=Europe/Vienna;VALUE=DATE:20260803
DTSTAMP:20260118T201307Z
URL:https://praxis-berndorfer.at/events/liebe-sicherheit/
SUMMARY:Wenn Nähe gleichzeitig schön und beängstigend ist
DESCRIPTION:Du willst Nähe – und ziehst dich zurück\, wenn sie da ist.\
 nVielleicht liebst du.Aber sobald es ernst wird\, wird es eng.Oder du klam
 merst – und verlierst dich selbst.\nIn diesem Workshop geht es um Bezieh
 ungsmuster\, die nicht „falsch“ sind\, sondern gelernt.\n\nWas dich er
 wartet:\n- Verständnis: Warum Nähe Angst machen kann\n- Warum du dich in
  Beziehungen selbst verlierst oder zurückziehst\n- Wie alte Erfahrungen h
 eute noch wirken\n- Wie sich Nähe sicherer anfühlen kann\n- Erhalte Vers
 tändnis statt Schuld\n\nFür wen?\n- Beziehungen anstrengend sind\n- du d
 ich nach Verbindung sehnst\n- Liebe dich verunsichert\nDu gehst mit:\n- me
 hr Verständnis für dich\n- weniger Beziehungschaos\n- mehr innere Sicher
 heit\n\n———————————————————-\nINFOS 
 / ZEITPUNKT:\n\nSamstag 09:00 - 15:00\nSonntag  09:00 - 14:00\n\nBitte p
 ünktlich dabei sein (ggf. kurze SMS schreiben bei Verspätung)\nDer Beitr
 ag kann per Rechnung bezahlt werden!\nEine Absage oder Nichterscheinen wir
 d voll in Rechnung gestellt\, da der Platz ganz dir gehört und begrenzt i
 st!\n\nAlle Rahmenbedingungen für den Workshop findest du hier: https://
 praxis-berndorfer.at/rahmenbedingungen-workshop/\n\n———————
 ————————————-\n\nMelde dich an und erlebe\, dich s
 icherer in deinen Beziehungen.\n\n\nIch freue mich darauf\, dich in diesem
  Workshop zu unterstützen!\n\nTamara Berndorfer\n\nDisclaimer:Meine Works
 hops finden ausschließlich als Angebot der Lebens- und Sozialberatung sta
 tt und dienen zur psychosozialen Unterstützung im Alltag. Sie bieten Impu
 lse und praktische Ansätze für mehr Lebensqualität\, Selbstreflexion un
 d persönliche Weiterentwicklung. Sie ersetzen keine psychotherapeutische 
 oder ärztliche Behandlung – sondern sind eine Möglichkeit sich selbst 
 eigenverantwortlich und wirkungsvoll zu erleben!\n\n&nbsp\;
ATTACH;FMTTYPE=image/jpeg:https://praxis-berndorfer.at/wp-content/uploads/
 2026/01/WSPraxis-Instagram-Post-11.png
CATEGORIES:Workshop / Seminar
LOCATION:Tamara Berndorfer - Lebens- und Sozialberaterin\, Bahnhofstrasse 8
  (1. Stock)\, Traun\, 4050\, Österreich
X-APPLE-STRUCTURED-LOCATION;VALUE=URI;X-ADDRESS=Bahnhofstrasse 8 (1. Stock)
 \, Traun\, 4050\, Österreich;X-APPLE-RADIUS=100;X-TITLE=Tamara Berndorfer
  - Lebens- und Sozialberaterin:geo:0,0
END:VEVENT
BEGIN:VTIMEZONE
TZID:Europe/Vienna
X-LIC-LOCATION:Europe/Vienna
BEGIN:DAYLIGHT
DTSTART:20260329T030000
TZOFFSETFROM:+0100
TZOFFSETTO:+0200
TZNAME:CEST
END:DAYLIGHT
END:VTIMEZONE
END:VCALENDAR