BEGIN:VCALENDAR
VERSION:2.0
PRODID:-//wp-events-plugin.com//7.2.3.1//EN
BEGIN:VEVENT
UID:142@praxis-berndorfer.at
DTSTART;TZID=Europe/Vienna;VALUE=DATE:20260905
DTEND;TZID=Europe/Vienna;VALUE=DATE:20260907
DTSTAMP:20260118T204713Z
URL:https://praxis-berndorfer.at/events/konflikte-als-chance-nutzen-warum-
 streit-dich-mehr-triggert-als-die-situation-selbst/
SUMMARY:Konflikte als Chance nutzen - Warum Streit dich mehr triggert als d
 ie Situation selbst
DESCRIPTION:Warum Streit dich mehr triggert als die Situation selbst.\nKonf
 likte machen eng. Oder laut. Oder stumm.\nVielleicht vermeidest du sie.Ode
 r du gerätst immer wieder hinein.\nIn diesem Workshop lernst du\, Konflik
 te nicht mehr als Gefahr\, sondern als Hinweis zu sehen – auf dich\, dei
 ne Grenzen und deine Wahrheit.\n\nWas dich erwartet:\n- Warum Konflikte so
  stark triggern können\n- Wie alte Muster in Streitgesprächen auftauchen
 \n- Wie du deine Wahrheit sagst\, ohne zu kämpfen\n- Wie du ruhig bleibst
 \, auch wenn es emotional wird\n- Klarheit statt Eskalation\n\nFür dich\,
  wenn:\n- Konflikte dich stark belasten\n- du danach lange grübelst\n- du
  dich nach ehrlicher\, ruhiger Kommunikation sehnst\n\nDu gehst mit:\n- me
 hr Klarheit\n- weniger innerer Anspannung\n- einem neuen Blick auf Streit 
 &amp\; Reibung\n———————————————————-
 \nINFOS / ZEITPUNKT:\n\nSamstag 09:00 - 15:00\nSonntag  09:00 - 14:00\n\n
 Bitte pünktlich dabei sein (ggf. kurze SMS schreiben bei Verspätung)\nDe
 r Beitrag kann per Rechnung bezahlt werden!\nEine Absage oder Nichterschei
 nen wird voll in Rechnung gestellt\, da der Platz ganz dir gehört und beg
 renzt ist!\n\nAlle Rahmenbedingungen für den Workshop findest du hier: h
 ttps://praxis-berndorfer.at/rahmenbedingungen-workshop/\n\n—————
 ——————————————-\n\nMelde dich an und erlebe di
 ch sicher in Konfliktsituationen.\n\n\nIch freue mich darauf\, dich in die
 sem Workshop zu unterstützen!\n\nTamara Berndorfer\n\nDisclaimer:Meine Wo
 rkshops finden ausschließlich als Angebot der Lebens- und Sozialberatung 
 statt und dienen zur psychosozialen Unterstützung im Alltag. Sie bieten I
 mpulse und praktische Ansätze für mehr Lebensqualität\, Selbstreflexion
  und persönliche Weiterentwicklung. Sie ersetzen keine psychotherapeutisc
 he oder ärztliche Behandlung – sondern sind eine Möglichkeit sich selb
 st eigenverantwortlich und wirkungsvoll zu erleben!\n\n&nbsp\;
ATTACH;FMTTYPE=image/jpeg:https://praxis-berndorfer.at/wp-content/uploads/
 2026/01/WSPraxis-Instagram-Post-16.png
CATEGORIES:Workshop / Seminar
LOCATION:Tamara Berndorfer - Lebens- und Sozialberaterin\, Bahnhofstrasse 8
  (1. Stock)\, Traun\, 4050\, Österreich
X-APPLE-STRUCTURED-LOCATION;VALUE=URI;X-ADDRESS=Bahnhofstrasse 8 (1. Stock)
 \, Traun\, 4050\, Österreich;X-APPLE-RADIUS=100;X-TITLE=Tamara Berndorfer
  - Lebens- und Sozialberaterin:geo:0,0
END:VEVENT
BEGIN:VTIMEZONE
TZID:Europe/Vienna
X-LIC-LOCATION:Europe/Vienna
BEGIN:DAYLIGHT
DTSTART:20260329T030000
TZOFFSETFROM:+0100
TZOFFSETTO:+0200
TZNAME:CEST
END:DAYLIGHT
END:VTIMEZONE
END:VCALENDAR