BEGIN:VCALENDAR
VERSION:2.0
PRODID:-//wp-events-plugin.com//7.2.3.1//EN
BEGIN:VEVENT
UID:136@praxis-berndorfer.at
DTSTART;TZID=Europe/Vienna;VALUE=DATE:20260509
DTEND;TZID=Europe/Vienna;VALUE=DATE:20260511
DTSTAMP:20260118T192249Z
URL:https://praxis-berndorfer.at/events/klar-kommunizieren/
SUMMARY:Klar kommunizieren – deinen Standpunkt sagen und respektvoll blei
 ben
DESCRIPTION:Viele Menschen können reden – aber nicht sagen\, was wirklic
 h in ihnen vorgeht.Dieser Workshop ist kein Kommunikationstraining für Sm
 alltalk\, sondern ein Raum für echte\, tragfähige Selbstpositionierung.\
 n\nWas dich erwartet:\n\n 	\nWarum Kommunikation oft scheitert\, obwohl 
 „alles richtig gesagt“ wurde\n\n 	weshalb Gespräche kippen oder ins L
 eere laufen &amp\; warum Klarheit nichts mit Härte zu tun hat\n 	\nEigene
  Bedürfnisse formulieren ohne Angriff oder Rückzug\n\n 	\nKonflikte regu
 lieren statt vermeiden\n\n 	\nPraxisnahe Gesprächsstrukturen\n\n 	\nÜbun
 gen für schwierige Gespräche\n\n\n&nbsp\;\nFür wen?\n\n 	\nFür Mensche
 n\, die sich oft missverstanden fühlen\n\n 	\nFür alle\, die Konflikte s
 cheuen\n\n 	\nFür dich\, wenn du gehört werden willst\n\n\n&nbsp\;\nDu w
 irst lernen:\n\n 	\nDeinen Standpunkt ruhig zu vertreten\n\n 	\nDich nicht
  mehr zu erklären oder zu rechtfertigen\n\n 	\nGespräche bewusst zu füh
 ren\n\n\n\n&nbsp\;\n\n—————————————————
 ——-\nINFOS / ZEITPUNKT:\n\nSamstag 09:00 - 15:00\nSonntag  09:00 - 14
 :00\n\nBitte pünktlich dabei sein (ggf. kurze SMS schreiben bei Verspätu
 ng)\nDer Beitrag kann per Rechnung bezahlt werden!\nEine Absage oder Nicht
 erscheinen wird voll in Rechnung gestellt\, da der Platz ganz dir gehört 
 und begrenzt ist!\n\nAlle Rahmenbedingungen für den Workshop findest du h
 ier: https://praxis-berndorfer.at/rahmenbedingungen-workshop/\n\n——
 —————————————————-\n\nMelde dich an und 
 erlebe\, dich in positiven Gesprächen.\n\nIch freue mich darauf\, dich in
  diesem Workshop zu unterstützen!\n\nTamara Berndorfer\n\nDisclaimer:Mein
 e Workshops finden ausschließlich als Angebot der Lebens- und Sozialberat
 ung statt und dienen zur psychosozialen Unterstützung im Alltag. Sie biet
 en Impulse und praktische Ansätze für mehr Lebensqualität\, Selbstrefle
 xion und persönliche Weiterentwicklung. Sie ersetzen keine psychotherapeu
 tische oder ärztliche Behandlung – sondern sind eine Möglichkeit sich 
 selbst eigenverantwortlich und wirkungsvoll zu erleben!\n\n&nbsp\;
ATTACH;FMTTYPE=image/jpeg:https://praxis-berndorfer.at/wp-content/uploads/
 2026/01/WSPraxis-Instagram-Post-10.png
CATEGORIES:Workshop / Seminar
LOCATION:Tamara Berndorfer - Lebens- und Sozialberaterin\, Bahnhofstrasse 8
  (1. Stock)\, Traun\, 4050\, Österreich
X-APPLE-STRUCTURED-LOCATION;VALUE=URI;X-ADDRESS=Bahnhofstrasse 8 (1. Stock)
 \, Traun\, 4050\, Österreich;X-APPLE-RADIUS=100;X-TITLE=Tamara Berndorfer
  - Lebens- und Sozialberaterin:geo:0,0
END:VEVENT
BEGIN:VTIMEZONE
TZID:Europe/Vienna
X-LIC-LOCATION:Europe/Vienna
BEGIN:DAYLIGHT
DTSTART:20260329T030000
TZOFFSETFROM:+0100
TZOFFSETTO:+0200
TZNAME:CEST
END:DAYLIGHT
END:VTIMEZONE
END:VCALENDAR