BEGIN:VCALENDAR
VERSION:2.0
PRODID:-//wp-events-plugin.com//7.2.3.1//EN
BEGIN:VEVENT
UID:105@praxis-berndorfer.at
DTSTART;TZID=Europe/Vienna:20250307T170000
DTEND;TZID=Europe/Vienna:20250307T210000
DTSTAMP:20250224T194659Z
URL:https://praxis-berndorfer.at/events/innere-freiheit/
SUMMARY:Innere Freiheit finden – befreie dich von den Erwartungen anderer
  und achte dich selbst
DESCRIPTION:Fühlst du dich oft von den Erwartungen anderer erdrückt?\nDie
 ser Workshop hilft dir\, dich von äußeren Erwartungen zu befreien und de
 ine eigenen Bedürfnisse und Wünsche wieder in den Mittelpunkt zu stellen
 . Entdecke\, wie du zu deinem wahren\, freien Selbst findest – ohne die 
 Last von Meinungen und Druck.\n\nDas erwartet dich:\nIn diesem Workshop wi
 rst du die Möglichkeit haben\, dich von den Erwartungen anderer zu befrei
 en und deinem eigenen inneren Kompass zu folgen. Du wirst an deinem Selbst
 bild arbeiten und lernen\, wie du dich selbst schätzen und lieben kannst\
 , ohne dich von den Meinungen anderer definieren zu lassen. Gemeinsam erar
 beiten wir\, wie du dir selbst die Aufmerksamkeit und den Raum gibst\, den
  du verdienst\, und wie du wieder zu deinem eigenen\, freien Selbst findes
 t.\n\n&nbsp\;\n\n——————————————————-\n
 INFOS / ZEITPUNKT:\n\nBitte pünktlich dabei sein (ggf. kurze SMS schreibe
 n bei Verspätung)\nDer Beitrag kann per Rechnung bezahlt werden!\nEine Ab
 sage oder Nichterscheinen wird voll in Rechnung gestellt\, da der Platz ga
 nz dir gehört und begrenzt ist!\n\nAlle Rahmenbedingungen für den Worksh
 op findest du hier: https://praxis-berndorfer.at/rahmenbedingungen-worksho
 p/\n\n——————————————————-\n\nMelde dic
 h an und finde zurück zu dir selbst!\n\nIch freue mich darauf\, dich in d
 iesem Workshop zu unterstützen!\nTamara Berndorfer\n\n&nbsp\;\n\n\n\nDisc
 laimer:Meine Workshops finden ausschließlich als Angebot der Lebens- und 
 Sozialberatung statt und dienen zur psychosozialen Unterstützung im Allta
 g. Sie bieten Impulse und praktische Ansätze für mehr Lebensqualität\, 
 Selbstreflexion und persönliche Weiterentwicklung. Sie ersetzen keine psy
 chotherapeutische oder ärztliche Behandlung - sondern sind eine Möglichk
 eit sich selbst eigenverantwortlich und wirkungsvoll zu erleben!
ATTACH;FMTTYPE=image/jpeg:https://praxis-berndorfer.at/wp-content/uploads/
 2024/12/WSPraxis-Instagram-Post-9.png
CATEGORIES:Workshop / Seminar
LOCATION:Tamara Berndorfer - Lebens- und Sozialberaterin\, Bahnhofstrasse 8
  (1. Stock)\, Traun\, 4050\, Österreich
X-APPLE-STRUCTURED-LOCATION;VALUE=URI;X-ADDRESS=Bahnhofstrasse 8 (1. Stock)
 \, Traun\, 4050\, Österreich;X-APPLE-RADIUS=100;X-TITLE=Tamara Berndorfer
  - Lebens- und Sozialberaterin:geo:0,0
END:VEVENT
BEGIN:VTIMEZONE
TZID:Europe/Vienna
X-LIC-LOCATION:Europe/Vienna
BEGIN:STANDARD
DTSTART:20241027T020000
TZOFFSETFROM:+0200
TZOFFSETTO:+0100
TZNAME:CET
END:STANDARD
END:VTIMEZONE
END:VCALENDAR