BEGIN:VCALENDAR
VERSION:2.0
PRODID:-//wp-events-plugin.com//7.2.3.1//EN
BEGIN:VEVENT
UID:140@praxis-berndorfer.at
DTSTART;TZID=Europe/Vienna;VALUE=DATE:20261107
DTEND;TZID=Europe/Vienna;VALUE=DATE:20261109
DTSTAMP:20260118T203219Z
URL:https://praxis-berndorfer.at/events/emotionaler-neustart-2/
SUMMARY:Emotionaler Neustart
DESCRIPTION:Vielleicht reißt du dich schon lange zusammen.Machst weiter. H
 ältst durch.Und niemand sieht\, wie viel Kraft dich das kostet.\nIn diese
 m Workshop geht es darum\, emotionale Krisen nicht nur zu überstehen\, so
 ndern zu verstehen\, was sie dir zeigen wollen – und wie du wieder Boden
  unter den Füßen bekommst.\n\nWas dich erwartet:\n- Warum emotionale Zus
 ammenbrüche kein Versagen sind\n- Wie du wieder Stabilität findest\, wen
 n innerlich alles wackelt\n- Was dir hilft\, dich selbst zu regulieren sta
 tt zu überfordern\n- Wie du aus Krisen Klarheit statt Scham mitnehmen kan
 nst\n- Raum für dich – ohne Druck\, ohne Bewertung\n\nFür dich\, wenn:
 \n- du emotional erschöpft bist\n- du dich selbst nicht mehr richtig spü
 rst\n- du merkst: So wie bisher geht es nicht weiter\n\nDu gehst mit:\n- m
 ehr innerer Ruhe\n- neuer Orientierung\n- dem Gefühl: Ich kann mich selbs
 t halten\n&nbsp\;\n\n—————————————————
 ——-\nINFOS / ZEITPUNKT:\n\nSamstag 09:00 - 15:00\nSonntag  09:00 - 14
 :00\n\nBitte pünktlich dabei sein (ggf. kurze SMS schreiben bei Verspätu
 ng)\nDer Beitrag kann per Rechnung bezahlt werden!\nEine Absage oder Nicht
 erscheinen wird voll in Rechnung gestellt\, da der Platz ganz dir gehört 
 und begrenzt ist!\n\nAlle Rahmenbedingungen für den Workshop findest du h
 ier: https://praxis-berndorfer.at/rahmenbedingungen-workshop/\n\n——
 —————————————————-\n\nMelde dich an und 
 erlebe\, deinen emotionalen Neustart.\n\n\nIch freue mich darauf\, dich in
  diesem Workshop zu unterstützen!\n\nTamara Berndorfer\n\nDisclaimer:Mein
 e Workshops finden ausschließlich als Angebot der Lebens- und Sozialberat
 ung statt und dienen zur psychosozialen Unterstützung im Alltag. Sie biet
 en Impulse und praktische Ansätze für mehr Lebensqualität\, Selbstrefle
 xion und persönliche Weiterentwicklung. Sie ersetzen keine psychotherapeu
 tische oder ärztliche Behandlung – sondern sind eine Möglichkeit sich 
 selbst eigenverantwortlich und wirkungsvoll zu erleben!\n\n&nbsp\;
ATTACH;FMTTYPE=image/jpeg:https://praxis-berndorfer.at/wp-content/uploads/
 2026/01/WSPraxis-Instagram-Post-13.png
CATEGORIES:Workshop / Seminar
LOCATION:Tamara Berndorfer - Lebens- und Sozialberaterin\, Bahnhofstrasse 8
  (1. Stock)\, Traun\, 4050\, Österreich
X-APPLE-STRUCTURED-LOCATION;VALUE=URI;X-ADDRESS=Bahnhofstrasse 8 (1. Stock)
 \, Traun\, 4050\, Österreich;X-APPLE-RADIUS=100;X-TITLE=Tamara Berndorfer
  - Lebens- und Sozialberaterin:geo:0,0
END:VEVENT
BEGIN:VTIMEZONE
TZID:Europe/Vienna
X-LIC-LOCATION:Europe/Vienna
BEGIN:STANDARD
DTSTART:20261025T020000
TZOFFSETFROM:+0200
TZOFFSETTO:+0100
TZNAME:CET
END:STANDARD
END:VTIMEZONE
END:VCALENDAR