BEGIN:VCALENDAR
VERSION:2.0
PRODID:-//wp-events-plugin.com//7.2.3.1//EN
BEGIN:VEVENT
UID:145@praxis-berndorfer.at
DTSTART;TZID=Europe/Vienna;VALUE=DATE:20260711
DTEND;TZID=Europe/Vienna;VALUE=DATE:20260713
DTSTAMP:20260118T212829Z
URL:https://praxis-berndorfer.at/events/borderline-teil-3-3-beziehungen-un
 d-soziale-unterstuetzung/
SUMMARY:Borderline Teil 3/3 : Beziehungen und soziale Unterstützung
DESCRIPTION:Diese Workshopreihe ist für dich\, wenn …\n\n… du selbst m
 it starken\, wechselhaften Emotionen lebst\n… du eine Borderline-Diagnos
 e oder -Akzentuierung hast\n… du Partner:in\, Angehörige:r oder naheste
 hende Person bist\n… du verstehen möchtest\, was hinter intensiven Gef
 ühlen\, Nähe-Themen und Beziehungsspannungen steckt\n\nHier geht es nich
 t um „richtig“ oder „falsch“.\nNicht um Schuld. Nicht um schnelle 
 Lösungen.\nSondern um Verstehen\, Stabilisieren und einen freundlicheren 
 Umgang mit dir selbst und miteinander.\nTeil 3 : Beziehungen und soziale U
 nterstützung\nErfahre\, wie du gesunde Beziehungen aufbaust und ein unter
 stützendes soziales Netzwerk findest.\n- Gesunde und unterstützende Bezi
 ehungen führen\n- Offene und ehrliche Kommunikation\n- Grenzen setzen und
  respektieren .\n- Unterstützung in deinem sozialen Umfeld findest.\n- Um
 gang mit obsessiver Lieblingsperson\n\nDieser Workshop ist Teil 3 von 3 Wo
 chenenden – Wissen\, Verständnis &amp\; praktische Werkzeuge für mehr 
 Halt im Alltag. Es handelt sich um eine fixe Gruppe.\n\n——————
 —————————————-\nINFOS / ZEITPUNKT:\n\nSamstag 09
 :00 - 15:00\nSonntag  09:00 - 14:00\n\nBitte pünktlich dabei sein (ggf. 
 kurze SMS schreiben bei Verspätung)\nDer Beitrag kann per Rechnung bezahl
 t werden!\nEine Absage oder Nichterscheinen wird voll in Rechnung gestellt
 \, da der Platz ganz dir gehört und begrenzt ist!\n\nAlle Rahmenbedingung
 en für den Workshop findest du hier: https://praxis-berndorfer.at/rahmen
 bedingungen-workshop/\n\n————————————————
 ———-\n\nMelde dich an\, wenn du Borderline besser verstehen möchtes
 t – bei dir selbst oder bei einem Menschen\, der dir nahe steht.\n\nIch 
 freue mich darauf\, dich in diesem Workshop zu unterstützen!\n\nTamara Be
 rndorfer\n\nDisclaimer:Meine Workshops dienen zur psychosozialen Unterstü
 tzung im Alltag. Sie bieten Impulse und praktische Ansätze für mehr Lebe
 nsqualität\, Selbstreflexion und persönliche Weiterentwicklung. Sie erse
 tzen keine psychotherapeutische oder ärztliche Behandlung – sondern sin
 d eine Möglichkeit sich selbst eigenverantwortlich und wirkungsvoll zu er
 leben!\n\n&nbsp\;
ATTACH;FMTTYPE=image/jpeg:https://praxis-berndorfer.at/wp-content/uploads/
 2026/01/WSPraxis-Instagram-Post-15.png
CATEGORIES:Workshop / Seminar
LOCATION:Tamara Berndorfer - Psychotherapeutin in Ausbildung unter Supervis
 ion\, Bahnhofstrasse 8 (1. Stock)\, Traun\, 4050\, Österreich
X-APPLE-STRUCTURED-LOCATION;VALUE=URI;X-ADDRESS=Bahnhofstrasse 8 (1. Stock)
 \, Traun\, 4050\, Österreich;X-APPLE-RADIUS=100;X-TITLE=Tamara Berndorfer
  - Psychotherapeutin in Ausbildung unter Supervision:geo:0,0
END:VEVENT
BEGIN:VTIMEZONE
TZID:Europe/Vienna
X-LIC-LOCATION:Europe/Vienna
BEGIN:DAYLIGHT
DTSTART:20260329T030000
TZOFFSETFROM:+0100
TZOFFSETTO:+0200
TZNAME:CEST
END:DAYLIGHT
END:VTIMEZONE
END:VCALENDAR