BEGIN:VCALENDAR
VERSION:2.0
PRODID:-//wp-events-plugin.com//7.2.3.1//EN
BEGIN:VEVENT
UID:144@praxis-berndorfer.at
DTSTART;TZID=Europe/Vienna;VALUE=DATE:20260620
DTEND;TZID=Europe/Vienna;VALUE=DATE:20260622
DTSTAMP:20260118T212605Z
URL:https://praxis-berndorfer.at/events/borderline-teil-2/
SUMMARY:Borderline Teil 2/3 : Selbstwert und Selbstakzeptanz
DESCRIPTION:Diese Workshopreihe ist für dich\, wenn …\n\n… du selbst m
 it starken\, wechselhaften Emotionen lebst\n… du eine Borderline-Diagnos
 e oder -Akzentuierung hast\n… du Partner:in\, Angehörige:r oder naheste
 hende Person bist\n… du verstehen möchtest\, was hinter intensiven Gef
 ühlen\, Nähe-Themen und Beziehungsspannungen steckt\n\nHier geht es nich
 t um „richtig“ oder „falsch“.\nNicht um Schuld. Nicht um schnelle 
 Lösungen.\nSondern um Verstehen\, Stabilisieren und einen freundlicheren 
 Umgang mit dir selbst und miteinander.\nTeil 2 : Selbstwert und Selbstakze
 ptanz\nEntwickle ein stärkeres Selbstwertgefühl und lerne\, dich selbst 
 zu akzeptieren und zu lieben.\n- positives Selbstbild\n- Negative Denkmust
 er erkennen\n- Stärken und Fähigkeiten erkennen\n- positives und realist
 isches Selbstbild\n- normale Beziehung zum Essen\, Süchten und anderen Re
 gulationen\n\nDieser Workshop ist Teil 2 von 3 Wochenenden – Wissen\, Ve
 rständnis &amp\; praktische Werkzeuge für mehr Halt im Alltag. Es handel
 t sich um eine fixe Gruppe - du darfst dir also auch gleich noch Teil 3 ei
 ntragen.\n\n———————————————————-\nIN
 FOS / ZEITPUNKT:\n\nSamstag 09:00 - 15:00\nSonntag  09:00 - 14:00\n\nBitt
 e pünktlich dabei sein (ggf. kurze SMS schreiben bei Verspätung)\nDer Be
 itrag kann per Rechnung bezahlt werden!\nEine Absage oder Nichterscheinen 
 wird voll in Rechnung gestellt\, da der Platz ganz dir gehört und begrenz
 t ist!\n\nAlle Rahmenbedingungen für den Workshop findest du hier: https
 ://praxis-berndorfer.at/rahmenbedingungen-workshop/\n\n——————
 —————————————-\n\nMelde dich an\, wenn du Border
 line besser verstehen möchtest – bei dir selbst oder bei einem Menschen
 \, der dir nahe steht.\n\nIch freue mich darauf\, dich in diesem Workshop 
 zu unterstützen!\n\nTamara Berndorfer\n\nDisclaimer:Meine Workshops diene
 n zur psychosozialen Unterstützung im Alltag. Sie bieten Impulse und prak
 tische Ansätze für mehr Lebensqualität\, Selbstreflexion und persönlic
 he Weiterentwicklung. Sie ersetzen keine psychotherapeutische oder ärztli
 che Behandlung – sondern sind eine Möglichkeit sich selbst eigenverantw
 ortlich und wirkungsvoll zu erleben!\n\n&nbsp\;
ATTACH;FMTTYPE=image/jpeg:https://praxis-berndorfer.at/wp-content/uploads/
 2026/01/WSPraxis-Instagram-Post-15.png
CATEGORIES:Workshop / Seminar
LOCATION:Tamara Berndorfer - Psychotherapeutin in Ausbildung unter Supervis
 ion\, Bahnhofstrasse 8 (1. Stock)\, Traun\, 4050\, Österreich
X-APPLE-STRUCTURED-LOCATION;VALUE=URI;X-ADDRESS=Bahnhofstrasse 8 (1. Stock)
 \, Traun\, 4050\, Österreich;X-APPLE-RADIUS=100;X-TITLE=Tamara Berndorfer
  - Psychotherapeutin in Ausbildung unter Supervision:geo:0,0
END:VEVENT
BEGIN:VTIMEZONE
TZID:Europe/Vienna
X-LIC-LOCATION:Europe/Vienna
BEGIN:DAYLIGHT
DTSTART:20260329T030000
TZOFFSETFROM:+0100
TZOFFSETTO:+0200
TZNAME:CEST
END:DAYLIGHT
END:VTIMEZONE
END:VCALENDAR